BEGIN:VCALENDAR
VERSION:2.0
PRODID:-//Evangelize Boston - ECPv6.15.18//NONSGML v1.0//EN
CALSCALE:GREGORIAN
METHOD:PUBLISH
X-WR-CALNAME:Evangelize Boston
X-ORIGINAL-URL:https://www.evangelizeboston.com
X-WR-CALDESC:Events for Evangelize Boston
REFRESH-INTERVAL;VALUE=DURATION:PT1H
X-Robots-Tag:noindex
X-PUBLISHED-TTL:PT1H
BEGIN:VTIMEZONE
TZID:America/New_York
BEGIN:DAYLIGHT
TZOFFSETFROM:-0500
TZOFFSETTO:-0400
TZNAME:EDT
DTSTART:20250309T070000
END:DAYLIGHT
BEGIN:STANDARD
TZOFFSETFROM:-0400
TZOFFSETTO:-0500
TZNAME:EST
DTSTART:20251102T060000
END:STANDARD
BEGIN:DAYLIGHT
TZOFFSETFROM:-0500
TZOFFSETTO:-0400
TZNAME:EDT
DTSTART:20260308T070000
END:DAYLIGHT
BEGIN:STANDARD
TZOFFSETFROM:-0400
TZOFFSETTO:-0500
TZNAME:EST
DTSTART:20261101T060000
END:STANDARD
BEGIN:DAYLIGHT
TZOFFSETFROM:-0500
TZOFFSETTO:-0400
TZNAME:EDT
DTSTART:20270314T070000
END:DAYLIGHT
BEGIN:STANDARD
TZOFFSETFROM:-0400
TZOFFSETTO:-0500
TZNAME:EST
DTSTART:20271107T060000
END:STANDARD
END:VTIMEZONE
BEGIN:VEVENT
DTSTART;TZID=America/New_York:20261025T150000
DTEND;TZID=America/New_York:20261025T163000
DTSTAMP:20260419T145808
CREATED:20260324T172354Z
LAST-MODIFIED:20260324T172354Z
UID:10001121-1792940400-1792945800@www.evangelizeboston.com
SUMMARY:Annual Wedding Anniversary Mass
DESCRIPTION:Archbishop Richard Henning invites all couples celebrating their 10th\, 25th\, 50th or other milestone wedding anniversaries to attend the Annual Wedding Anniversary Mass on Sunday\, October 25th at 3:00 PM at the Cathedral of the Holy Cross in Boston. The couple will renew their marriage commitment and receive a special blessing. Please select one ticket per couple. \nThere will be an opportunity for photos after the Mass. All family and friends are welcome to attend; guests do not need to register. Information on parking options will be mailed out to registered guests and included here this fall. For more information please see our Frequently Asked Questions file. To arrange for an ASL interpreter for the hearing impaired\, or for any other questions\, please email marriageprep@rcab.org. \n 
URL:https://www.evangelizeboston.com/event/annual-wedding-anniversary-mass-5/
LOCATION:Cathedral of the Holy Cross\, 1400 Washington Street\, Boston\, MA\, 02118\, United States
CATEGORIES:Annual Wedding Anniversary Mass,Marriage Enrichment
ATTACH;FMTTYPE=image/png:https://www.evangelizeboston.com/wp-content/uploads/2023/05/Wedding-Anniv.-Mass-V3-450-×-254-px.png
ORGANIZER;CN="marriageprep@rcab.org":MAILTO:marriageprep@rcab.org
END:VEVENT
END:VCALENDAR