BEGIN:VCALENDAR
VERSION:2.0
PRODID:-//Evangelize Boston - ECPv6.15.18//NONSGML v1.0//EN
CALSCALE:GREGORIAN
METHOD:PUBLISH
X-WR-CALNAME:Evangelize Boston
X-ORIGINAL-URL:https://www.evangelizeboston.com
X-WR-CALDESC:Events for Evangelize Boston
REFRESH-INTERVAL;VALUE=DURATION:PT1H
X-Robots-Tag:noindex
X-PUBLISHED-TTL:PT1H
BEGIN:VTIMEZONE
TZID:America/New_York
BEGIN:DAYLIGHT
TZOFFSETFROM:-0500
TZOFFSETTO:-0400
TZNAME:EDT
DTSTART:20250309T070000
END:DAYLIGHT
BEGIN:STANDARD
TZOFFSETFROM:-0400
TZOFFSETTO:-0500
TZNAME:EST
DTSTART:20251102T060000
END:STANDARD
BEGIN:DAYLIGHT
TZOFFSETFROM:-0500
TZOFFSETTO:-0400
TZNAME:EDT
DTSTART:20260308T070000
END:DAYLIGHT
BEGIN:STANDARD
TZOFFSETFROM:-0400
TZOFFSETTO:-0500
TZNAME:EST
DTSTART:20261101T060000
END:STANDARD
BEGIN:DAYLIGHT
TZOFFSETFROM:-0500
TZOFFSETTO:-0400
TZNAME:EDT
DTSTART:20270314T070000
END:DAYLIGHT
BEGIN:STANDARD
TZOFFSETFROM:-0400
TZOFFSETTO:-0500
TZNAME:EST
DTSTART:20271107T060000
END:STANDARD
END:VTIMEZONE
BEGIN:VEVENT
DTSTART;TZID=America/New_York:20260502T083000
DTEND;TZID=America/New_York:20260502T120000
DTSTAMP:20260419T101825
CREATED:20260225T134845Z
LAST-MODIFIED:20260312T171301Z
UID:10001083-1777710600-1777723200@www.evangelizeboston.com
SUMMARY:Morning for Christian Mental Health Professionals
DESCRIPTION:The Family Life team invites all Christian and Catholic mental health professionals to our 2nd annual Morning for Mental Health Professionals on Saturday\, May 2nd from 8:30AM-12PM at the Pastoral Center\, Braintree.  Check-in and breakfast begin at 8:30 AM; the program kicks off at 9:00. Dr. Janice LeBel will be the featured speaker and is a psychologist with more than thirty years’ experience in mental health\, child welfare\, juvenile justice\, and intellectual and developmental disability populations. She oversees a statewide system of inpatient and secure residential care for children and adolescents. Join other professionals in your field over breakfast with time to pray\, connect\, and exchange ideas together. Mass in the chapel will conclude the gathering. This program is free of charge; registration is required. \n 
URL:https://www.evangelizeboston.com/event/morning-for-christian-and-catholic-mental-health-professionals/
LOCATION:Pastoral Center\, 66 Brooks Drive\, Braintree\, MA\, 02184\, United States
CATEGORIES:Family Life Ministry,Mental Health Professionals
ATTACH;FMTTYPE=image/png:https://www.evangelizeboston.com/wp-content/uploads/2025/01/Morning-for-Mental-health-prof.png
ORGANIZER;CN="Emily Elliott":MAILTO:marriageprep@rcab.org
END:VEVENT
END:VCALENDAR