BEGIN:VCALENDAR
VERSION:2.0
PRODID:-//Evangelize Boston - ECPv6.15.18//NONSGML v1.0//EN
CALSCALE:GREGORIAN
METHOD:PUBLISH
X-ORIGINAL-URL:https://www.evangelizeboston.com
X-WR-CALDESC:Events for Evangelize Boston
REFRESH-INTERVAL;VALUE=DURATION:PT1H
X-Robots-Tag:noindex
X-PUBLISHED-TTL:PT1H
BEGIN:VTIMEZONE
TZID:America/New_York
BEGIN:DAYLIGHT
TZOFFSETFROM:-0500
TZOFFSETTO:-0400
TZNAME:EDT
DTSTART:20250309T070000
END:DAYLIGHT
BEGIN:STANDARD
TZOFFSETFROM:-0400
TZOFFSETTO:-0500
TZNAME:EST
DTSTART:20251102T060000
END:STANDARD
BEGIN:DAYLIGHT
TZOFFSETFROM:-0500
TZOFFSETTO:-0400
TZNAME:EDT
DTSTART:20260308T070000
END:DAYLIGHT
BEGIN:STANDARD
TZOFFSETFROM:-0400
TZOFFSETTO:-0500
TZNAME:EST
DTSTART:20261101T060000
END:STANDARD
BEGIN:DAYLIGHT
TZOFFSETFROM:-0500
TZOFFSETTO:-0400
TZNAME:EDT
DTSTART:20270314T070000
END:DAYLIGHT
BEGIN:STANDARD
TZOFFSETFROM:-0400
TZOFFSETTO:-0500
TZNAME:EST
DTSTART:20271107T060000
END:STANDARD
END:VTIMEZONE
BEGIN:VEVENT
DTSTART;VALUE=DATE:20260424
DTEND;VALUE=DATE:20260426
DTSTAMP:20260420T162804
CREATED:20250716T121526Z
LAST-MODIFIED:20260224T155111Z
UID:10001056-1776988800-1777161599@www.evangelizeboston.com
SUMMARY:Marriage Prep Workshop - April 2026
DESCRIPTION:Transformed in Love is the marriage preparation workshop of the Archdiocese of Boston for engaged couples and those seeking a convalidation after civil marriage. This workshop is in person. \nDATE/TIME:  \nFriday\, April 24 from 6:30-9:45pm  \nSaturday\, April 25 from 9:00am-4:00pm  \nREGISTRATION: 1 ticket per couple. The $200 cost includes registration\, meals\, couple workbooks\, resources\, Mass\, Sacrament of Reconciliation\, and certificate of completion. A follow-up email with more details will arrive 7 days prior to the workshop. \nPayment is by credit card. Financial assistance is available by contacting Liz Cotrupi.
URL:https://www.evangelizeboston.com/event/marriage-prep-workshop-april-2026/
LOCATION:MA
CATEGORIES:Transformed in Love,Family Life Ministry
ATTACH;FMTTYPE=image/jpeg:https://www.evangelizeboston.com/wp-content/uploads/2022/03/Workshop_TIL_Web-e1647639266912.jpg
ORGANIZER;CN="Program Assistant for Marriage Ministry":MAILTO:marriageprep@rcab.org
END:VEVENT
BEGIN:VEVENT
DTSTART;VALUE=DATE:20260529
DTEND;VALUE=DATE:20260531
DTSTAMP:20260420T162804
CREATED:20250716T122227Z
LAST-MODIFIED:20260327T132053Z
UID:10001058-1780012800-1780185599@www.evangelizeboston.com
SUMMARY:Marriage Prep Workshop - May 2026
DESCRIPTION:Transformed in Love is the marriage preparation workshop of the Archdiocese of Boston for engaged couples and those seeking a convalidation after civil marriage. This workshop is in person. \nDATE/TIME:  \nFriday\, May 29 from 6:30-9:45pm  \nSaturday\, May 30 from 9:00am-4:00pm  \nREGISTRATION: 1 ticket per couple. The $200 cost includes registration\, meals\, couple workbooks\, resources\, Mass\, Sacrament of Reconciliation\, and certificate of completion. A follow-up email with more details will arrive 7 days prior to the workshop. \nPayment is by credit card. Financial assistance is available by contacting Liz Cotrupi.
URL:https://www.evangelizeboston.com/event/marriage-prep-workshop-may-2026/
LOCATION:Pastoral Center\, 66 Brooks Drive\, Braintree\, MA\, 02184\, United States
CATEGORIES:Transformed in Love,Family Life Ministry
ATTACH;FMTTYPE=image/jpeg:https://www.evangelizeboston.com/wp-content/uploads/2022/03/Workshop_TIL_Web-e1647639266912.jpg
ORGANIZER;CN="Program Assistant for Marriage Ministry":MAILTO:marriageprep@rcab.org
END:VEVENT
BEGIN:VEVENT
DTSTART;TZID=America/New_York:20260530T093000
DTEND;TZID=America/New_York:20260530T120000
DTSTAMP:20260420T162804
CREATED:20260415T220637Z
LAST-MODIFIED:20260415T220822Z
UID:10001124-1780133400-1780142400@www.evangelizeboston.com
SUMMARY:Transformed in Love Ministry Formation
DESCRIPTION:Transformed in Love/Transformados en el Amor is the marriage preparation program for the Archdiocese of Boston. If you are a married couple\, deacon\, or priest being called to serve in this special ministry\, we encourage you to learn more through this workshop. This workshop is mainly for Hispanic teams. It will be hosted in English with a live\, Spanish interpreter. \nThe workshop is complimentary. If you decide to pursue this rewarding ministry\, you or the parish will need the Transformed in Love/Transformados en el Amor resources. The Engaged Couple Workbook\, Leader Guide\, and/or Leader Kit are available for a discounted rate and can be found here. \nTo register\, please chose only 1 ticket for yourself and/or a spouse.
URL:https://www.evangelizeboston.com/event/transformed-in-love-ministry-formation-3/
LOCATION:Pastoral Center\, 66 Brooks Drive\, Braintree\, MA\, 02184\, United States
CATEGORIES:Transformed in Love,Family Life Ministry,Transformed in Love Ministry Formation
ATTACH;FMTTYPE=image/png:https://www.evangelizeboston.com/wp-content/uploads/2022/10/TiL-2ministry-formation.png
ORGANIZER;CN="Liz Cotrupi":MAILTO:elizabeth_cotrupi@rcab.org
END:VEVENT
BEGIN:VEVENT
DTSTART;VALUE=DATE:20260714
DTEND;VALUE=DATE:20260723
DTSTAMP:20260420T162804
CREATED:20260317T180617Z
LAST-MODIFIED:20260317T180617Z
UID:10001119-1783987200-1784764799@www.evangelizeboston.com
SUMMARY:Marriage Prep Virtual Mini-Series: July 2026
DESCRIPTION:Transformed in Love is the marriage preparation workshop of the Archdiocese of Boston for engaged couples and those civilly married  seeking a convalidation. The workshop is being offered virtually over Zoom. This mini-series is an alternative\, yet equivalent format of our marriage prep also referred to as Pre-Cana. \nDATE/TIME: \n\nJuly 14\, 16\, and 22 from 6:30pm-9:30pm                                                            \n\nREGISTRATION: 1 ticket per couple. The $200 cost includes registration\, couple workbooks\, resources\, and a certificate of completion mailed to the bride’s residence. Zoom links will be sent in a follow-up email 7 days prior to the start of the workshop. \nPayment is by credit card. Financial assistance is available by contacting Liz Cotrupi.
URL:https://www.evangelizeboston.com/event/marriage-prep-virtual-mini-series-july2026/
LOCATION:Virtual Zoom Meeting
CATEGORIES:Transformed in Love,Family Life Ministry
ATTACH;FMTTYPE=image/jpeg:https://www.evangelizeboston.com/wp-content/uploads/2022/03/Workshop_TIL_Web-e1647639266912.jpg
ORGANIZER;CN="Program Assistant for Marriage Ministry":MAILTO:marriageprep@rcab.org
END:VEVENT
BEGIN:VEVENT
DTSTART;VALUE=DATE:20260911
DTEND;VALUE=DATE:20260913
DTSTAMP:20260420T162804
CREATED:20260317T175606Z
LAST-MODIFIED:20260317T181213Z
UID:10001118-1789084800-1789257599@www.evangelizeboston.com
SUMMARY:Marriage Prep Workshop - September 2026
DESCRIPTION:Transformed in Love is the marriage preparation workshop of the Archdiocese of Boston for engaged couples and those seeking a convalidation after civil marriage. This workshop is in person. \nDATE/TIME:  \nFriday\, September 11 from 6:30-9:45pm  \nSaturday\, September 12 from 9:00am-4:00pm  \nREGISTRATION: 1 ticket per couple. The $200 cost includes registration\, meals\, couple workbooks\, resources\, Mass\, Sacrament of Reconciliation\, and certificate of completion. A follow-up email with more details will arrive 7 days prior to the workshop. \nPayment is by credit card. Financial assistance is available by contacting Liz Cotrupi.
URL:https://www.evangelizeboston.com/event/marriage-prep-workshop-september2026/
LOCATION:Pastoral Center\, 66 Brooks Drive\, Braintree\, MA\, 02184\, United States
CATEGORIES:Transformed in Love,Family Life Ministry
ATTACH;FMTTYPE=image/jpeg:https://www.evangelizeboston.com/wp-content/uploads/2022/03/Workshop_TIL_Web-e1647639266912.jpg
ORGANIZER;CN="Program Assistant for Marriage Ministry":MAILTO:marriageprep@rcab.org
END:VEVENT
BEGIN:VEVENT
DTSTART;VALUE=DATE:20261023
DTEND;VALUE=DATE:20261025
DTSTAMP:20260420T162804
CREATED:20260108T200448Z
LAST-MODIFIED:20260108T200448Z
UID:10001107-1792713600-1792886399@www.evangelizeboston.com
SUMMARY:Marriage Prep Workshop - October 2026 Wrentham
DESCRIPTION:Transformed in Love is the marriage preparation workshop of the Archdiocese of Boston for engaged couples and those seeking a convalidation after civil marriage. This workshop is in person at St. Mary Parish Hall at 130 South Street\, in Wrentham.  \nDATE/TIME: \nFriday\, October 23 from 6:00pm-9:30pm (Supper at 5:30) \nSaturday\, October 24 from 9:00am-6pm (Begins with light breakfast) \nREGISTRATION: 1 ticket per couple. The $215 cost includes registration\, meals\, couple workbooks\, resources\, Mass\, and certificate of completion. A follow-up email with more details will arrive 10 days prior to the workshop. \nPayment is by credit card. For financial assistance contact Deacon Joe Flocco at St. Mary in Wrentham.
URL:https://www.evangelizeboston.com/event/marriage-prep-workshop-october-2026-wrentham/
LOCATION:St. Mary Parish Hall Wrentham\, 130 South St.\, Wrentham\, 02093
CATEGORIES:Transformed in Love,Family Life Ministry
ATTACH;FMTTYPE=image/jpeg:https://www.evangelizeboston.com/wp-content/uploads/2022/03/Workshop_TIL_Web-e1647639266912.jpg
ORGANIZER;CN="Program Assistant for Marriage Ministry":MAILTO:marriageprep@rcab.org
END:VEVENT
BEGIN:VEVENT
DTSTART;VALUE=DATE:20261106
DTEND;VALUE=DATE:20261108
DTSTAMP:20260420T162804
CREATED:20260317T181247Z
LAST-MODIFIED:20260317T181247Z
UID:10001120-1793923200-1794095999@www.evangelizeboston.com
SUMMARY:Marriage Prep Workshop - November 2026
DESCRIPTION:Transformed in Love is the marriage preparation workshop of the Archdiocese of Boston for engaged couples and those seeking a convalidation after civil marriage. This workshop is in person. \nDATE/TIME:  \nFriday\, November 6 from 6:30-9:45pm  \nSaturday\, November 7 from 9:00am-4:00pm  \nREGISTRATION: 1 ticket per couple. The $200 cost includes registration\, meals\, couple workbooks\, resources\, Mass\, Sacrament of Reconciliation\, and certificate of completion. A follow-up email with more details will arrive 7 days prior to the workshop. \nPayment is by credit card. Financial assistance is available by contacting Liz Cotrupi.
URL:https://www.evangelizeboston.com/event/marriage-prep-workshop-november2026/
LOCATION:Pastoral Center\, 66 Brooks Drive\, Braintree\, MA\, 02184\, United States
CATEGORIES:Transformed in Love,Family Life Ministry
ATTACH;FMTTYPE=image/jpeg:https://www.evangelizeboston.com/wp-content/uploads/2022/03/Workshop_TIL_Web-e1647639266912.jpg
ORGANIZER;CN="Program Assistant for Marriage Ministry":MAILTO:marriageprep@rcab.org
END:VEVENT
END:VCALENDAR