BEGIN:VCALENDAR
VERSION:2.0
PRODID:-//Evangelize Boston - ECPv6.15.18//NONSGML v1.0//EN
CALSCALE:GREGORIAN
METHOD:PUBLISH
X-WR-CALNAME:Evangelize Boston
X-ORIGINAL-URL:https://www.evangelizeboston.com
X-WR-CALDESC:Events for Evangelize Boston
REFRESH-INTERVAL;VALUE=DURATION:PT1H
X-Robots-Tag:noindex
X-PUBLISHED-TTL:PT1H
BEGIN:VTIMEZONE
TZID:America/New_York
BEGIN:DAYLIGHT
TZOFFSETFROM:-0500
TZOFFSETTO:-0400
TZNAME:EDT
DTSTART:20210314T070000
END:DAYLIGHT
BEGIN:STANDARD
TZOFFSETFROM:-0400
TZOFFSETTO:-0500
TZNAME:EST
DTSTART:20211107T060000
END:STANDARD
BEGIN:DAYLIGHT
TZOFFSETFROM:-0500
TZOFFSETTO:-0400
TZNAME:EDT
DTSTART:20220313T070000
END:DAYLIGHT
BEGIN:STANDARD
TZOFFSETFROM:-0400
TZOFFSETTO:-0500
TZNAME:EST
DTSTART:20221106T060000
END:STANDARD
BEGIN:DAYLIGHT
TZOFFSETFROM:-0500
TZOFFSETTO:-0400
TZNAME:EDT
DTSTART:20230312T070000
END:DAYLIGHT
BEGIN:STANDARD
TZOFFSETFROM:-0400
TZOFFSETTO:-0500
TZNAME:EST
DTSTART:20231105T060000
END:STANDARD
END:VTIMEZONE
BEGIN:VEVENT
DTSTART;TZID=America/New_York:20221026T120000
DTEND;TZID=America/New_York:20221026T140000
DTSTAMP:20260422T081724
CREATED:20220916T185306Z
LAST-MODIFIED:20220928T185635Z
UID:10000618-1666785600-1666792800@www.evangelizeboston.com
SUMMARY:Fall 2022 Faith Formation Leader Meeting – West
DESCRIPTION:We invite faith formation leaders who accompany adults and children in their journey of discipleship to join other leaders for gatherings of prayer\, support\, sharing\, networking\, and learning. We hope you can attend! \nWe will offer these opportunities for faith formation leaders to gather around the archdiocese 3-4 times a year.  Please register for the date or location that best fits your schedule.  While everyone is always welcome\, there is no need to plan to attend more than one of the meetings each season.
URL:https://www.evangelizeboston.com/event/fall-2022-faith-formation-leader-meeting-west/
LOCATION:Ascension Parish at Our Lady of Fatima Sudbury\, 160 Concord Road\, Sudbury\, MA\, 01776\, United States
CATEGORIES:Faith Formation,Faith Formation Leader Meetings
ATTACH;FMTTYPE=image/png:https://www.evangelizeboston.com/wp-content/uploads/2022/09/FFL-Gathering-v2-2-e1664561048395.png
END:VEVENT
END:VCALENDAR