BEGIN:VCALENDAR
VERSION:2.0
PRODID:-//Evangelize Boston - ECPv6.15.18//NONSGML v1.0//EN
CALSCALE:GREGORIAN
METHOD:PUBLISH
X-WR-CALNAME:Evangelize Boston
X-ORIGINAL-URL:https://www.evangelizeboston.com
X-WR-CALDESC:Events for Evangelize Boston
REFRESH-INTERVAL;VALUE=DURATION:PT1H
X-Robots-Tag:noindex
X-PUBLISHED-TTL:PT1H
BEGIN:VTIMEZONE
TZID:America/New_York
BEGIN:DAYLIGHT
TZOFFSETFROM:-0500
TZOFFSETTO:-0400
TZNAME:EDT
DTSTART:20230312T070000
END:DAYLIGHT
BEGIN:STANDARD
TZOFFSETFROM:-0400
TZOFFSETTO:-0500
TZNAME:EST
DTSTART:20231105T060000
END:STANDARD
BEGIN:DAYLIGHT
TZOFFSETFROM:-0500
TZOFFSETTO:-0400
TZNAME:EDT
DTSTART:20240310T070000
END:DAYLIGHT
BEGIN:STANDARD
TZOFFSETFROM:-0400
TZOFFSETTO:-0500
TZNAME:EST
DTSTART:20241103T060000
END:STANDARD
BEGIN:DAYLIGHT
TZOFFSETFROM:-0500
TZOFFSETTO:-0400
TZNAME:EDT
DTSTART:20250309T070000
END:DAYLIGHT
BEGIN:STANDARD
TZOFFSETFROM:-0400
TZOFFSETTO:-0500
TZNAME:EST
DTSTART:20251102T060000
END:STANDARD
BEGIN:DAYLIGHT
TZOFFSETFROM:-0500
TZOFFSETTO:-0400
TZNAME:EDT
DTSTART:20260308T070000
END:DAYLIGHT
BEGIN:STANDARD
TZOFFSETFROM:-0400
TZOFFSETTO:-0500
TZNAME:EST
DTSTART:20261101T060000
END:STANDARD
END:VTIMEZONE
BEGIN:VEVENT
DTSTART;TZID=America/New_York:20250823T080000
DTEND;TZID=America/New_York:20250823T160000
DTSTAMP:20260425T191138
CREATED:20250630T232014Z
LAST-MODIFIED:20250819T153739Z
UID:10001040-1755936000-1755964800@www.evangelizeboston.com
SUMMARY:Retiro y Envío para Catequistas
DESCRIPTION:Cada año nos reunimos para celebrar el regalo de nuestro llamado a compartir el Evangelio en nuestros Ministerios. \nEste año reflexionaremos sobre: \n\nNuestro llamado universal a la Santidad\, a ser Discípulos y a Evangelizar.\nPracticaremos maneras para compartir nuestro testimonio de fe.\n\nA demás compartiremos con otros catequistas y evangelizadores de la Arquidiócesis en oración y alabanza\, concluiremos nuestra jornada con la Misa de envío de catequistas celebrada por nuestro Obispo Cristiano Barbosa. \n$30.00 (Incluye almuerzo) \nEspera más detalles. \n ¡Te esperamos!
URL:https://www.evangelizeboston.com/event/retiro-y-envio-para-catequistas/
LOCATION:Malden Catholic\, 99 Crystal St\, Malden\, MA 02148\, 99 Crystal St\,\, Malden\,\, MA\, 02148\, United States
CATEGORIES:Ethnic and Cultural Communities
ATTACH;FMTTYPE=image/jpeg:https://www.evangelizeboston.com/wp-content/uploads/2025/06/Catechist-Retreat-2025-Event-Post.jpg
ORGANIZER;CN="Sr. Elsa":MAILTO:ministerioshispanos@rcab.org
END:VEVENT
BEGIN:VEVENT
DTSTART;TZID=America/New_York:20240824T083000
DTEND;TZID=America/New_York:20240824T150000
DTSTAMP:20260425T191138
CREATED:20240626T190455Z
LAST-MODIFIED:20240819T194601Z
UID:10000810-1724488200-1724511600@www.evangelizeboston.com
SUMMARY:Retiro de inicio de año para Catequistas
DESCRIPTION:Retiro Catequético “Señor\, ¿cuándo te vimos hambriento?” es una magnífica oportunidad para que los catequistas de la Arquidiócesis de Boston se reúnan y celebren el valioso regalo de su llamado al discipulado misionero. \nEl retiro iniciara con una Misa oficiada por el Obispo Cristiano Barbosa. Luego\, ofrecerá temas inspiradores que abordarán diversos aspectos del ministerio catequético\, proporcionando herramientas y recursos para enriquecer su labor pastoral\, y concluirá con la bendición especial para los catequistas que se preparan para iniciar o continuar su maravilloso servicio en el ministerio de la catequesis en sus respectivas parroquias. \n¡No pierdas esta oportunidad única de renovar tu compromiso\, fortalecer tu espiritualidad y compartir tu fe con alegría y entusiasmo junto a otros catequistas! \n¡INSCRÍBETE HOY! Únete a esta jornada de formación\, comunión y celebración!
URL:https://www.evangelizeboston.com/event/retiro-de-inicio-de-ano-para-catequistas/
LOCATION:Malden Catholic\, 99 Crystal St\, Malden\, MA 02148\, 99 Crystal St\,\, Malden\,\, MA\, 02148\, United States
CATEGORIES:Ethnic and Cultural Communities
ATTACH;FMTTYPE=image/png:https://www.evangelizeboston.com/wp-content/uploads/2024/06/Hispanic-Catechist-Retreat-Website-Event-Graphic.png
ORGANIZER;CN="Sr. Elsa":MAILTO:ministerioshispanos@rcab.org
END:VEVENT
END:VCALENDAR