BEGIN:VCALENDAR
VERSION:2.0
PRODID:-//Evangelize Boston - ECPv6.15.18//NONSGML v1.0//EN
CALSCALE:GREGORIAN
METHOD:PUBLISH
X-WR-CALNAME:Evangelize Boston
X-ORIGINAL-URL:https://www.evangelizeboston.com
X-WR-CALDESC:Events for Evangelize Boston
REFRESH-INTERVAL;VALUE=DURATION:PT1H
X-Robots-Tag:noindex
X-PUBLISHED-TTL:PT1H
BEGIN:VTIMEZONE
TZID:America/New_York
BEGIN:DAYLIGHT
TZOFFSETFROM:-0500
TZOFFSETTO:-0400
TZNAME:EDT
DTSTART:20240310T070000
END:DAYLIGHT
BEGIN:STANDARD
TZOFFSETFROM:-0400
TZOFFSETTO:-0500
TZNAME:EST
DTSTART:20241103T060000
END:STANDARD
BEGIN:DAYLIGHT
TZOFFSETFROM:-0500
TZOFFSETTO:-0400
TZNAME:EDT
DTSTART:20250309T070000
END:DAYLIGHT
BEGIN:STANDARD
TZOFFSETFROM:-0400
TZOFFSETTO:-0500
TZNAME:EST
DTSTART:20251102T060000
END:STANDARD
BEGIN:DAYLIGHT
TZOFFSETFROM:-0500
TZOFFSETTO:-0400
TZNAME:EDT
DTSTART:20260308T070000
END:DAYLIGHT
BEGIN:STANDARD
TZOFFSETFROM:-0400
TZOFFSETTO:-0500
TZNAME:EST
DTSTART:20261101T060000
END:STANDARD
END:VTIMEZONE
BEGIN:VEVENT
DTSTART;TZID=America/New_York:20250919T193000
DTEND;TZID=America/New_York:20250919T213000
DTSTAMP:20260425T173639
CREATED:20250806T174751Z
LAST-MODIFIED:20250806T184900Z
UID:10001063-1758310200-1758317400@www.evangelizeboston.com
SUMMARY:Hora Santa Para Jóvenes\, Santísimo Redentor\, East Boston
DESCRIPTION:El Ministerio Multicultural\, junto con los grupos juveniles de la Arquidiócesis de Boston organizan una hora santa al mes en la que invitan a todos los jóvenes a participar. La noche comienza con la Adoración a Jesús en la Eucaristía – hay oportunidad para confesarse durante este tiempo. Después el grupo de la parroquia anfitriona nos dirige en un tiempo para compartir\, jugar o realizar alguna actividad para conocernos. \nLa próxima hora Santa será en la parroquia de Santa María de Waltham. \n¡No faltes y lleva a un amigo! \nCristo te estará esperando \n*menores de 18 deben ir acompañandos por un adulto.
URL:https://www.evangelizeboston.com/event/hora-santa-para-jovenes-3/
LOCATION:Most Holy Redeemer\, East Boston\, 65 London St\, East Boston
ATTACH;FMTTYPE=image/jpeg:https://www.evangelizeboston.com/wp-content/uploads/2025/07/horas-santas-event-.jpg
ORGANIZER;CN="Wendy Mejia":MAILTO:Wendy_Mejia@rcab.org
END:VEVENT
END:VCALENDAR