BEGIN:VCALENDAR
VERSION:2.0
PRODID:-//Evangelize Boston - ECPv6.15.18//NONSGML v1.0//EN
CALSCALE:GREGORIAN
METHOD:PUBLISH
X-WR-CALNAME:Evangelize Boston
X-ORIGINAL-URL:https://www.evangelizeboston.com
X-WR-CALDESC:Events for Evangelize Boston
REFRESH-INTERVAL;VALUE=DURATION:PT1H
X-Robots-Tag:noindex
X-PUBLISHED-TTL:PT1H
BEGIN:VTIMEZONE
TZID:America/New_York
BEGIN:DAYLIGHT
TZOFFSETFROM:-0500
TZOFFSETTO:-0400
TZNAME:EDT
DTSTART:20240310T070000
END:DAYLIGHT
BEGIN:STANDARD
TZOFFSETFROM:-0400
TZOFFSETTO:-0500
TZNAME:EST
DTSTART:20241103T060000
END:STANDARD
BEGIN:DAYLIGHT
TZOFFSETFROM:-0500
TZOFFSETTO:-0400
TZNAME:EDT
DTSTART:20250309T070000
END:DAYLIGHT
BEGIN:STANDARD
TZOFFSETFROM:-0400
TZOFFSETTO:-0500
TZNAME:EST
DTSTART:20251102T060000
END:STANDARD
BEGIN:DAYLIGHT
TZOFFSETFROM:-0500
TZOFFSETTO:-0400
TZNAME:EDT
DTSTART:20260308T070000
END:DAYLIGHT
BEGIN:STANDARD
TZOFFSETFROM:-0400
TZOFFSETTO:-0500
TZNAME:EST
DTSTART:20261101T060000
END:STANDARD
END:VTIMEZONE
BEGIN:VEVENT
DTSTART;TZID=America/New_York:20251122T083000
DTEND;TZID=America/New_York:20251122T120000
DTSTAMP:20260422T081517
CREATED:20250724T191821Z
LAST-MODIFIED:20251112T195822Z
UID:10001061-1763800200-1763812800@www.evangelizeboston.com
SUMMARY:Morning Prayer and Reflection for All Involved in Music Ministry
DESCRIPTION:This Jubilee year event will provide an opportunity for prayer\, reflection\, and renewal for all involved in music ministry in the church. This includes soloist\, musicians\, choir members\, and cantors.
URL:https://www.evangelizeboston.com/event/morning-prayer-and-reflection-for-all-involved-in-music-ministry/
LOCATION:Our Lady\, Help of Christians in Newton\, 573 Washington Street\, Newton\, 02458\, United States
CATEGORIES:Parish Ministry,Faith Formation,Ethnic and Cultural Communities
ATTACH;FMTTYPE=image/png:https://www.evangelizeboston.com/wp-content/uploads/2025/07/Sing-for-Joy-to-God-all-the-Earth-Event-Post.png
ORGANIZER;CN="Multicultural Ministry":MAILTO:multiculturalministry@rcab.org
END:VEVENT
BEGIN:VEVENT
DTSTART;TZID=America/New_York:20250319T100000
DTEND;TZID=America/New_York:20250319T100000
DTSTAMP:20260422T081517
CREATED:20241220T192034Z
LAST-MODIFIED:20250204T144643Z
UID:10000857-1742378400-1742378400@www.evangelizeboston.com
SUMMARY:Faith Formation Leader Lenten Retreat
DESCRIPTION:Take time away to be with Jesus! \nFaith formation leaders who accompany individual people of all ages in their journeys of faith are invited to this Lenten retreat with Fr. Casey Beaumier. We hope you come away from this time of prayer\, reflection\, and conversation nourished\, refreshed\, and with a renewed passion for mission. (We will provide lunch.) \nFr. Casey Beaumier\, SJ  is the director of the Institute for Advanced Jesuit Studies. He holds a Ph.D. in United States religious history from Boston College and focused his dissertation on the development of Jesuit education in the 20th century. At Boston College\, Fr. Beaumier teaches in the Capstone Program and lives in Fenwick Hall\, where he serves as mentor and spiritual director for students\, seminarians\, women religious\, and priests. In addition to directing the Institute\, Fr. Beaumier also serves as Vice President and University Secretary.
URL:https://www.evangelizeboston.com/event/faith-formation-retreat/
LOCATION:Our Lady\, Help of Christians in Newton\, 573 Washington Street\, Newton\, 02458\, United States
CATEGORIES:Faith Formation
ATTACH;FMTTYPE=image/png:https://www.evangelizeboston.com/wp-content/uploads/2023/11/Faith-Formation-Leader-Lenten-Retreat-Website-Graphic-450-x-254-v2.png
ORGANIZER;CN="Rosemary Maffei":MAILTO:rmaffei@rcab.org
END:VEVENT
END:VCALENDAR