BEGIN:VCALENDAR
VERSION:2.0
PRODID:-//Evangelize Boston - ECPv6.15.18//NONSGML v1.0//EN
CALSCALE:GREGORIAN
METHOD:PUBLISH
X-ORIGINAL-URL:https://www.evangelizeboston.com
X-WR-CALDESC:Events for Evangelize Boston
REFRESH-INTERVAL;VALUE=DURATION:PT1H
X-Robots-Tag:noindex
X-PUBLISHED-TTL:PT1H
BEGIN:VTIMEZONE
TZID:America/New_York
BEGIN:DAYLIGHT
TZOFFSETFROM:-0500
TZOFFSETTO:-0400
TZNAME:EDT
DTSTART:20230312T070000
END:DAYLIGHT
BEGIN:STANDARD
TZOFFSETFROM:-0400
TZOFFSETTO:-0500
TZNAME:EST
DTSTART:20231105T060000
END:STANDARD
BEGIN:DAYLIGHT
TZOFFSETFROM:-0500
TZOFFSETTO:-0400
TZNAME:EDT
DTSTART:20240310T070000
END:DAYLIGHT
BEGIN:STANDARD
TZOFFSETFROM:-0400
TZOFFSETTO:-0500
TZNAME:EST
DTSTART:20241103T060000
END:STANDARD
BEGIN:DAYLIGHT
TZOFFSETFROM:-0500
TZOFFSETTO:-0400
TZNAME:EDT
DTSTART:20250309T070000
END:DAYLIGHT
BEGIN:STANDARD
TZOFFSETFROM:-0400
TZOFFSETTO:-0500
TZNAME:EST
DTSTART:20251102T060000
END:STANDARD
END:VTIMEZONE
BEGIN:VEVENT
DTSTART;TZID=America/New_York:20240423T190000
DTEND;TZID=America/New_York:20240423T203000
DTSTAMP:20260421T094551
CREATED:20240403T211038Z
LAST-MODIFIED:20240412T190313Z
UID:10000793-1713898800-1713904200@www.evangelizeboston.com
SUMMARY:Approaches to Faith Formation & Youth Ministry in an Urban Setting - Session 1
DESCRIPTION:Join us for the first of a series workshop for Faith Formation leaders\, catechists\, youth ministers serving in parishes in an urban setting.\n\nSession 1: Faith Formation and Youth Ministry on a Limited Budget\nThis first session will explore creative and useful ways to do the following:\n– Effective strategies for fundraising\n– Ways to build valuable partnerships with community\norganizations\, businesses\, and individuals.\n– Find out about low-cost Catholic resources to help nurture and\nenrich the faith of young people in your parish.
URL:https://www.evangelizeboston.com/event/approaches-to-faith-formation-youth-ministry-in-an-urban-setting-session-1/
LOCATION:Our Lady of Lourdes\, 45 Brookside Ave.\, Jamaica Plain\, 02130\, United States
CATEGORIES:Ethnic and Cultural Communities,Black Catholic Ministries
ATTACH;FMTTYPE=image/jpeg:https://www.evangelizeboston.com/wp-content/uploads/2024/04/Urban-Setting.jpg
ORGANIZER;CN="Wendy Mejia":MAILTO:Wendy_Mejia@rcab.org
END:VEVENT
END:VCALENDAR