BEGIN:VCALENDAR
VERSION:2.0
PRODID:-//Evangelize Boston - ECPv6.15.18//NONSGML v1.0//EN
CALSCALE:GREGORIAN
METHOD:PUBLISH
X-ORIGINAL-URL:https://www.evangelizeboston.com
X-WR-CALDESC:Events for Evangelize Boston
REFRESH-INTERVAL;VALUE=DURATION:PT1H
X-Robots-Tag:noindex
X-PUBLISHED-TTL:PT1H
BEGIN:VTIMEZONE
TZID:America/New_York
BEGIN:DAYLIGHT
TZOFFSETFROM:-0500
TZOFFSETTO:-0400
TZNAME:EDT
DTSTART:20230312T070000
END:DAYLIGHT
BEGIN:STANDARD
TZOFFSETFROM:-0400
TZOFFSETTO:-0500
TZNAME:EST
DTSTART:20231105T060000
END:STANDARD
BEGIN:DAYLIGHT
TZOFFSETFROM:-0500
TZOFFSETTO:-0400
TZNAME:EDT
DTSTART:20240310T070000
END:DAYLIGHT
BEGIN:STANDARD
TZOFFSETFROM:-0400
TZOFFSETTO:-0500
TZNAME:EST
DTSTART:20241103T060000
END:STANDARD
BEGIN:DAYLIGHT
TZOFFSETFROM:-0500
TZOFFSETTO:-0400
TZNAME:EDT
DTSTART:20250309T070000
END:DAYLIGHT
BEGIN:STANDARD
TZOFFSETFROM:-0400
TZOFFSETTO:-0500
TZNAME:EST
DTSTART:20251102T060000
END:STANDARD
BEGIN:DAYLIGHT
TZOFFSETFROM:-0500
TZOFFSETTO:-0400
TZNAME:EDT
DTSTART:20260308T070000
END:DAYLIGHT
BEGIN:STANDARD
TZOFFSETFROM:-0400
TZOFFSETTO:-0500
TZNAME:EST
DTSTART:20261101T060000
END:STANDARD
END:VTIMEZONE
BEGIN:VEVENT
DTSTART;TZID=America/New_York:20250318T190000
DTEND;TZID=America/New_York:20250318T203000
DTSTAMP:20260421T080445
CREATED:20250304T234053Z
LAST-MODIFIED:20250318T145746Z
UID:10001007-1742324400-1742329800@www.evangelizeboston.com
SUMMARY:A Discussion: For Parents Only
DESCRIPTION:When a person shares that they identify as LGBT\, the parent(s) may feel overwhelmed with feelings\, questions\, and concerns for their child regardless of the child’s age. As they continue to love and walk alongside their children\, the parent(s) may question what love requires\, how to hold on to their faith without alienating their family\, or how God is working in their experience. On Tuesday\, March 18\, 2025\, parents of children who identify as LGBT are invited to join the Family Life team as we explore these feelings and questions in a guided and respectful conversation with Eve Tushnet\, co-founder of Building Catholic Futures. Eve will speak from her 20+ years of experience mentoring and accompanying people with same-sex attraction and their families. This gathering will run from 7:00-8:30 PM at the Sullivan Center at St. Camillus in Arlington and include prayer and small group discussion. RSVP is optional yet encouraged so we can plan accordingly.
URL:https://www.evangelizeboston.com/event/for-parents-only/
LOCATION:Saint Camillus Church\, 1185 Concord Turnpike\, Arlingon\, 02476\, United States
ATTACH;FMTTYPE=image/png:https://www.evangelizeboston.com/wp-content/uploads/2025/03/For-Parents-Only-3.png
ORGANIZER;CN="Evangelize Boston":MAILTO:info@evangelizeboston.com
END:VEVENT
BEGIN:VEVENT
DTSTART;TZID=America/New_York:20240430T130000
DTEND;TZID=America/New_York:20240430T143000
DTSTAMP:20260421T080445
CREATED:20240403T174818Z
LAST-MODIFIED:20240409T144221Z
UID:10000786-1714482000-1714487400@www.evangelizeboston.com
SUMMARY:Confirmation Age Change Update - a Meeting for Faith Formation Leader (Arlington)
DESCRIPTION:Clergy\, lay staff\, and volunteers who coordinate Confirmation preparation for their parishes are invited to gather for an update on the Confirmation age change transition in the Archdiocese of Boston.  We will be sharing results from the recent listening sessions and reviewing resources and support available from the Office of Lifelong Faith Formation. \nThere will also be an opportunity to share ideas and best practices with each other on how to best implement this change in the age of Confirmation.
URL:https://www.evangelizeboston.com/event/confirmation-age-change-update-a-meeting-for-faith-formation-leader-arlington/
LOCATION:Saint Camillus Church\, 1185 Concord Turnpike\, Arlingon\, 02476\, United States
CATEGORIES:Faith Formation,Faith Formation Leader Meetings
END:VEVENT
END:VCALENDAR