BEGIN:VCALENDAR
VERSION:2.0
PRODID:-//Evangelize Boston - ECPv6.15.18//NONSGML v1.0//EN
CALSCALE:GREGORIAN
METHOD:PUBLISH
X-ORIGINAL-URL:https://www.evangelizeboston.com
X-WR-CALDESC:Events for Evangelize Boston
REFRESH-INTERVAL;VALUE=DURATION:PT1H
X-Robots-Tag:noindex
X-PUBLISHED-TTL:PT1H
BEGIN:VTIMEZONE
TZID:America/New_York
BEGIN:DAYLIGHT
TZOFFSETFROM:-0500
TZOFFSETTO:-0400
TZNAME:EDT
DTSTART:20250309T070000
END:DAYLIGHT
BEGIN:STANDARD
TZOFFSETFROM:-0400
TZOFFSETTO:-0500
TZNAME:EST
DTSTART:20251102T060000
END:STANDARD
BEGIN:DAYLIGHT
TZOFFSETFROM:-0500
TZOFFSETTO:-0400
TZNAME:EDT
DTSTART:20260308T070000
END:DAYLIGHT
BEGIN:STANDARD
TZOFFSETFROM:-0400
TZOFFSETTO:-0500
TZNAME:EST
DTSTART:20261101T060000
END:STANDARD
BEGIN:DAYLIGHT
TZOFFSETFROM:-0500
TZOFFSETTO:-0400
TZNAME:EDT
DTSTART:20270314T070000
END:DAYLIGHT
BEGIN:STANDARD
TZOFFSETFROM:-0400
TZOFFSETTO:-0500
TZNAME:EST
DTSTART:20271107T060000
END:STANDARD
END:VTIMEZONE
BEGIN:VEVENT
DTSTART;TZID=America/New_York:20260205T120000
DTEND;TZID=America/New_York:20260205T140000
DTSTAMP:20260425T210342
CREATED:20251204T195028Z
LAST-MODIFIED:20260116T162413Z
UID:10001097-1770292800-1770300000@www.evangelizeboston.com
SUMMARY:Winter Faith Formation Leader Meeting (West)
DESCRIPTION:We invite faith formation leaders who accompany adults and children in their journey of discipleship to join other leaders for gatherings of prayer\, support\, sharing\, networking\, and learning. Lunch is on us. We hope you can attend! \nWe will offer these opportunities for faith formation leaders to gather around the archdiocese 2 times a year.  Please register for the date or location that best fits your schedule.  While everyone is always welcome\, there is no need to plan to attend more than one of the meetings each season.
URL:https://www.evangelizeboston.com/event/winter-faith-formation-leader-meeting-west-2/
LOCATION:St. Elizabeth of Hungary\, 89 Arlington Street\, Acton\, MA\, 01720\, United States
CATEGORIES:Faith Formation,Faith Formation Leader Meetings
ATTACH;FMTTYPE=image/png:https://www.evangelizeboston.com/wp-content/uploads/2023/06/Evangelize-Website-Event-Graphics-Leader-Meeting-V2.png
ORGANIZER;CN="Rosemary Maffei":MAILTO:rmaffei@rcab.org
END:VEVENT
END:VCALENDAR